BEGIN:VCALENDAR
VERSION:2.0
PRODID:-//wp-events-plugin.com//7.2.3.1//EN
TZID:America/Chicago
X-WR-TIMEZONE:America/Chicago
BEGIN:VEVENT
UID:2615@mms.thebodgery.org
DTSTART;TZID=America/Chicago:20260509T143000
DTEND;TZID=America/Chicago:20260509T170000
DTSTAMP:20260423T031425Z
URL:https://mms.thebodgery.org/events/acrylic-paint-your-pet-workshop-3/
SUMMARY:Acrylic Paint Your Pet Workshop
DESCRIPTION:In this workshop\, students will learn how to paint their pet w
 ith acrylic paint! No painting experience necessary\, beginners and all ag
 es are welcome.\n\nStudents will receive a lightly pre-traced canvas of th
 eir pet\, on either a 14x14” square canvas\, or a 11x14” rectangle can
 vas depending on what best fits their image! Painting supplies and a print
 ed reference image of the student’s pet will be provided. The instructor
  will guide students by example for each part of the painting process. Stu
 dents will leave with a finished painting of their pet!\n\nAfter signing u
 p for the class\, please send the pet image you would like to adirksmeyer7
 @gmail.com by 2 days before the class date. Students may have 1-2 pets in 
 their image.\n\nSaturday\, May 9th 2:30-5pm\n\n$45/person\, materials incl
 uded\nRefunds are accepted up until one week before class.\nPlease bring a
 n apron or wear clothes that you don’t mind getting paint on.\n\nMinimum
  3 students\, maximum 8. Class may be cancelled if minimum numbers are not
  met.\n\nLocation: Annex (flex space)\n\nFor any questions\, contact Anna 
 Dirksmeyer on slack or at adirksmeyer7@gmail.com\n\n[caption id="attachmen
 t_4758" align="alignnone" width="300"] Screenshot[/caption]\n\n[caption id
 ="attachment_4756" align="alignnone" width="288"] Screenshot[/caption]\n\n
 [caption id="attachment_4759" align="alignnone" width="288"] Screenshot[/c
 aption]\n\n[caption id="attachment_4757" align="alignnone" width="300"] Sc
 reenshot[/caption]
CATEGORIES:Class,Craft
LOCATION:The Bodgery\, 740 Oscar Ave\, Madison\, WI\, 53704\, United States
X-APPLE-STRUCTURED-LOCATION;VALUE=URI;X-ADDRESS=740 Oscar Ave\, Madison\, W
 I\, 53704\, United States;X-APPLE-RADIUS=100;X-TITLE=The Bodgery:geo:0,0
END:VEVENT
BEGIN:VTIMEZONE
TZID:America/Chicago
X-LIC-LOCATION:America/Chicago
BEGIN:DAYLIGHT
DTSTART:20260308T030000
TZOFFSETFROM:-0600
TZOFFSETTO:-0500
TZNAME:CDT
END:DAYLIGHT
END:VTIMEZONE
END:VCALENDAR