BEGIN:VCALENDAR
VERSION:2.0
PRODID:-//wp-events-plugin.com//7.2.3.1//EN
TZID:America/Chicago
X-WR-TIMEZONE:America/Chicago
BEGIN:VEVENT
UID:2605@mms.thebodgery.org
DTSTART;TZID=America/Chicago:20260503T110000
DTEND;TZID=America/Chicago:20260503T153000
DTSTAMP:20260416T005950Z
URL:https://mms.thebodgery.org/events/art-welding-with-mig-intro-class-2/
SUMMARY:Art Welding with MIG — intro class
DESCRIPTION:ART WELDING WITH MIG — INTRO CLASS\nThe Bodgery | Sunday\, Ma
 y 3rd\, 2026 | 11:00 AM – 3:30 PM\nCost: $60 per student\nBeginner Frien
 dly — No Experience Needed\nAge Requirement: 18+\nClass Size: 3 spots av
 ailable\nCreate Your Own Metal Art Piece\nIn this hands-on beginner worksh
 op\, you’ll learn how to MIG weld steel scrap while exploring the basics
  of material prep and creative metalworking. Perfect for first-time welder
 s or anyone looking to experiment with artistic fabrication using reclaime
 d steel.\n\nWhat You’ll Learn\nMIG welding with steel scrap\n\nMaterial 
 cleaning &amp\; prep\n\nIntro grinding techniques\n\nBasic metal cutting\n
 \nSandblasting fundamentals\n\nSafe tool operation\n\nMake Something Uniqu
 e\nBring your own steel scrap or choose from the instructor’s materials.
 \nYou’ll cut\, grind\, weld\, and assemble your own scrap-steel art piec
 e with guided support throughout the class.\n\nSafety Requirements\nJeans 
 and a 100% cotton long-sleeve shirt or sweatshirt\n\nLeather work boots (r
 equired)\n\nNo loose or torn clothing\n\nNo polyester or synthetic fabrics
 \n\nBring your own PPE (welding helmet\, gloves\, safety glasses) if desir
 ed — PPE is also available at the shop\n\nImportant: Welding poses signi
 ficant risks to people with pacemakers due to electromagnetic interference
  (EMI)\, which may cause device malfunction. Please consult your physician
  before registering.\n\nCancellation Policy\nFull refund if you cancel at 
 least 7 days before the class date.\n\nCancellations made within 7 days of
  the class are non-refundable.\n\nIf you’re unable to attend within the 
 7-day window\, you may gift or transfer your spot to another Bodgery membe
 r if you can find someone to fill your slot.\n\nLocation\nThe Bodgery – 
 Metal Shop\nStudents must be current Bodgery members to participate.\n\nCo
 ntact: Tyler Willenbrink\nVia - slack or email tylerwillenbrinkaudio@gmail
 .com with additional questions.
CATEGORIES:Class,Metal
LOCATION:The Bodgery\, 740 Oscar Ave\, Madison\, WI\, 53704\, United States
X-APPLE-STRUCTURED-LOCATION;VALUE=URI;X-ADDRESS=740 Oscar Ave\, Madison\, W
 I\, 53704\, United States;X-APPLE-RADIUS=100;X-TITLE=The Bodgery:geo:0,0
END:VEVENT
BEGIN:VTIMEZONE
TZID:America/Chicago
X-LIC-LOCATION:America/Chicago
BEGIN:DAYLIGHT
DTSTART:20260308T030000
TZOFFSETFROM:-0600
TZOFFSETTO:-0500
TZNAME:CDT
END:DAYLIGHT
END:VTIMEZONE
END:VCALENDAR