BEGIN:VCALENDAR
VERSION:2.0
PRODID:-//wp-events-plugin.com//7.2.3.1//EN
TZID:America/Chicago
X-WR-TIMEZONE:America/Chicago
BEGIN:VEVENT
UID:424@mms.thebodgery.org
DTSTART;TZID=America/Chicago:20220219T130000
DTEND;TZID=America/Chicago:20220219T170000
DTSTAMP:20220103T153318Z
URL:https://mms.thebodgery.org/events/intro-to-kumiko/
SUMMARY:Intro to Kumiko
DESCRIPTION:Vince Cook from Minnesota has taught this class before at the B
 odgery. This is a repeat of that class. It will Introduce participants to 
 the basics of Kumiko woodcraft\, and you will make a small piece.\n\nBring
  the following if you have any\, otherwise Vince will have some tools to s
 hare in the class:\n\n 	Dozuki - a Japanese drawcut saw with very fine too
 th set (0.2mm)\, or fine dovetail saw\;\n 	Kanna - a Japanese plane or a s
 mall block plane\; ⅛” (3mm)\n 	Chisel\;\n 	Small square\;\n 	Marking k
 nife\;\n 	Marking gauge\n
CATEGORIES:Class,Woodworking
LOCATION:The Bodgery Classroom\, 740 Oscar Avenue\, Madison\, WI\, 53704\, 
 United States
X-APPLE-STRUCTURED-LOCATION;VALUE=URI;X-ADDRESS=740 Oscar Avenue\, Madison\
 , WI\, 53704\, United States;X-APPLE-RADIUS=100;X-TITLE=The Bodgery Classr
 oom:geo:0,0
END:VEVENT
BEGIN:VTIMEZONE
TZID:America/Chicago
X-LIC-LOCATION:America/Chicago
BEGIN:STANDARD
DTSTART:20211107T010000
TZOFFSETFROM:-0500
TZOFFSETTO:-0600
TZNAME:CST
END:STANDARD
END:VTIMEZONE
END:VCALENDAR