BEGIN:VCALENDAR
VERSION:2.0
PRODID:-//wp-events-plugin.com//7.2.3.1//EN
TZID:America/Chicago
X-WR-TIMEZONE:America/Chicago
BEGIN:VEVENT
UID:1812@mms.thebodgery.org
DTSTART;TZID=America/Chicago:20241030T173000
DTEND;TZID=America/Chicago:20241030T193000
DTSTAMP:20241010T033332Z
URL:https://mms.thebodgery.org/events/intro-to-woodworking-for-kids-of-all
 -ages-6-and-up/
SUMMARY:Intro to Woodworking For Kids of all ages 6 and up
DESCRIPTION:Introduction to Woodworking For Kids of All ages 6 and up\n\nTe
 aching woodworking skills that build character\, discipline and patience.\
 nIn this woodworking class we build a foundation of skills to create a pro
 ject from start to finish. Students are introduced to Safe use of Knife\, 
 Axe\, Saw\, Drill\, Hammer and Tape Measure as we cut Chop Saw and Drill i
 n wood to create our project. Students have the opportunity to choose from
  a number of projects to suit their age and interest. It is recommended th
 at students 8 and under are accompanied by an adult\n\nWendesday evening c
 lasses are ongoing (please sign up on multiple days if you would wish to a
 ttend multiple days) to provide flexibility in scheduling for parents\n\n5
  student maximum\n\n5:30 to 7:30 Wendesday Evenings\,\n\n Oct 30\nClass Co
 st is $50 per class Includes all Materials for Project\nNo Refunds\n\n\nCl
 ass will be held in the Shop classroom. If you are non-members\, please ar
 rive a few minutes early so that the instructor can let you inside our bui
 lding.\n\nMike Yaker also known as Chief Bad Axe The Speaking Tree has ove
 r 35 yrs experience in woodworking and is passionate about sharing these s
 kills. Working with our hands is a gateway to creativity and well being\, 
 while building a foundation for meaning purpose satisfaction and joy in on
 e's life.
CATEGORIES:Class,Woodworking
LOCATION:The Bodgery\, 740 Oscar Ave\, Madison\, WI\, 53704\, United States
X-APPLE-STRUCTURED-LOCATION;VALUE=URI;X-ADDRESS=740 Oscar Ave\, Madison\, W
 I\, 53704\, United States;X-APPLE-RADIUS=100;X-TITLE=The Bodgery:geo:0,0
END:VEVENT
BEGIN:VTIMEZONE
TZID:America/Chicago
X-LIC-LOCATION:America/Chicago
BEGIN:DAYLIGHT
DTSTART:20240310T030000
TZOFFSETFROM:-0600
TZOFFSETTO:-0500
TZNAME:CDT
END:DAYLIGHT
END:VTIMEZONE
END:VCALENDAR