BEGIN:VCALENDAR
VERSION:2.0
PRODID:-//wp-events-plugin.com//7.2.3.1//EN
TZID:America/Chicago
X-WR-TIMEZONE:America/Chicago
BEGIN:VEVENT
UID:667@mms.thebodgery.org
DTSTART;TZID=America/Chicago:20230206T190000
DTEND;TZID=America/Chicago:20230206T220000
DTSTAMP:20221103T153916Z
URL:https://mms.thebodgery.org/events/intro-to-woodworking-for-women-membe
 rs-only/
SUMMARY:Intro to Woodworking for Women *members only*
DESCRIPTION:Woodworking skills class for women\, build a splined mitred box
 .\nThis is a 5 week course\, not for complete beginners. Only 4 participan
 ts are accepted since this is an instructor intensive course. You will bec
 ome more familiar with the most common machines in woodworking–jointer\,
  planer\, table saw and jigs\, and learn to think more about how to think 
 about solid lumbers\, all to build a splined mitred box. The project will 
 address some of primary concerns in wood working (wood movement and how to
  accommodate it). You will leave with a project to be proud of.\n\nThis cl
 ass is a red tool checkoff.\n\n\nThis is a 5 week (one day/week) course. C
 lass runs 5 Mondays\, 6Feb-6March\, from 7-10pm\nAdult members only\, 4 st
 udents\; first night we'll use the woodworking machine room\, the next 4 n
 ights will work in the Shop classroom.\n\n\nPrerequisite: basic woodworkin
 g skills\n\nClass fee: Class fee $225\, $50 materials\n\nPayment due by 22
 Jan\, refunds available til 28Jan. Please reach out to Martha Downs on Sla
 ck or info@downsworks.com for clarifying questions\, payments and refunds.
  If you need to drop out\, please give as much notification as possible to
  arrange for another student. \n\n  
CATEGORIES:Class,Woodworking
LOCATION:The Bodgery\, 740 Oscar Ave\, Madison\, WI\, 53704\, United States
X-APPLE-STRUCTURED-LOCATION;VALUE=URI;X-ADDRESS=740 Oscar Ave\, Madison\, W
 I\, 53704\, United States;X-APPLE-RADIUS=100;X-TITLE=The Bodgery:geo:0,0
END:VEVENT
BEGIN:VTIMEZONE
TZID:America/Chicago
X-LIC-LOCATION:America/Chicago
BEGIN:STANDARD
DTSTART:20221106T010000
TZOFFSETFROM:-0500
TZOFFSETTO:-0600
TZNAME:CST
END:STANDARD
END:VTIMEZONE
END:VCALENDAR