BEGIN:VCALENDAR
VERSION:2.0
PRODID:-//wp-events-plugin.com//7.2.3.1//EN
TZID:America/Chicago
X-WR-TIMEZONE:America/Chicago
BEGIN:VEVENT
UID:1590@mms.thebodgery.org
DTSTART;TZID=America/Chicago:20240427T090000
DTEND;TZID=America/Chicago:20240427T150000
DTSTAMP:20240418T014846Z
URL:https://mms.thebodgery.org/events/mortice-and-tenon-joinery-for-trestl
 e-table/
SUMMARY:Mortice and Tenon Joinery for Trestle Table
DESCRIPTION:In this class we explore Mortice and Tenon Joinery that we can 
 apply to a Trestle Table\nWe will use handtools to cut joiney as we learn 
 about layout methods and tool use that we can apply to the building of str
 ucture for tables.\n\nPlease wear comfortable work appropriate clothing\nC
 lass will be held in the Flex Space at the Bodgery.\n\n Class timing:  9a
 m to 3pm on April 27\nCost per person is $125\nNo Refunds\nMax 5 students\
 n\nAge 12 and Up\n\nContact: Mike Yaker\, badaxechief@gmail.com @Chief Bad
  Axe The Speaking Tree on Slack
CATEGORIES:Class,Woodworking
LOCATION:The Bodgery\, 740 Oscar Ave\, Madison\, WI\, 53704\, United States
X-APPLE-STRUCTURED-LOCATION;VALUE=URI;X-ADDRESS=740 Oscar Ave\, Madison\, W
 I\, 53704\, United States;X-APPLE-RADIUS=100;X-TITLE=The Bodgery:geo:0,0
END:VEVENT
BEGIN:VTIMEZONE
TZID:America/Chicago
X-LIC-LOCATION:America/Chicago
BEGIN:DAYLIGHT
DTSTART:20240310T030000
TZOFFSETFROM:-0600
TZOFFSETTO:-0500
TZNAME:CDT
END:DAYLIGHT
END:VTIMEZONE
END:VCALENDAR