BEGIN:VCALENDAR
VERSION:2.0
PRODID:-//wp-events-plugin.com//7.2.3.1//EN
TZID:America/Chicago
X-WR-TIMEZONE:America/Chicago
BEGIN:VEVENT
UID:2516@mms.thebodgery.org
DTSTART;TZID=America/Chicago:20260314T120000
DTEND;TZID=America/Chicago:20260314T160000
DTSTAMP:20260319T154603Z
URL:https://mms.thebodgery.org/events/spinning-fidget-ring-jewelry-2/
SUMMARY:Paid. Spinning Fidget Ring (Jewelry)
DESCRIPTION:In this class students will hand-fabricate a spinner/fidget rin
 g with mixed metals including brass and copper. Beginner friendly class\, 
 no previous metalsmithing experience required.\n\nCLASS GOALS\n-Learn to m
 easure ring size and translate to metal\n-Introductory soldering basics\n-
 Introduction to needle files and sandpaper sticks\n-Learn use of dapping p
 unches.\n-Polishing cabinet use\n\nMarch 14\, 2026\, 12-4 pm\n\n$80/person
 \, materials included*\nRefund available up until one week before class.\n
 \n*Students with metal allergies or a preference for sterling can opt for 
 sterling silver\, but MUST contact the instructor with this preference at 
 least 48 hours before class. Sterling will require an additional charge\, 
 which will be determined by the weight of metal used\, and paid day of cla
 ss.\n\nSafety: come with closed toed shoes and long hair tied back. No loo
 se clothing or jewelry. If you have your own safety goggles you prefer ple
 ase bring them. N95 mask or equivalent ARE REQUIRED and will be provided b
 y the instructor if you do not bring your own.\n\nAges 18+\n\nMinimum 2 st
 udents\, maximum 4.\n\nJewelry Area\n\nFor questions\, contact Forrest Riv
 ers on slack or orions.shield.art@gmail.com\n\n
CATEGORIES:Class,Jewelry
LOCATION:The Bodgery\, 740 Oscar Ave\, Madison\, WI\, 53704\, United States
X-APPLE-STRUCTURED-LOCATION;VALUE=URI;X-ADDRESS=740 Oscar Ave\, Madison\, W
 I\, 53704\, United States;X-APPLE-RADIUS=100;X-TITLE=The Bodgery:geo:0,0
END:VEVENT
BEGIN:VTIMEZONE
TZID:America/Chicago
X-LIC-LOCATION:America/Chicago
BEGIN:DAYLIGHT
DTSTART:20260308T030000
TZOFFSETFROM:-0600
TZOFFSETTO:-0500
TZNAME:CDT
END:DAYLIGHT
END:VTIMEZONE
END:VCALENDAR