BEGIN:VCALENDAR
VERSION:2.0
PRODID:-//wp-events-plugin.com//7.2.3.1//EN
TZID:America/Chicago
X-WR-TIMEZONE:America/Chicago
BEGIN:VEVENT
UID:1724@mms.thebodgery.org
DTSTART;TZID=America/Chicago:20240921T130000
DTEND;TZID=America/Chicago:20240921T150000
DTSTAMP:20240827T222120Z
URL:https://mms.thebodgery.org/events/using-the-heat-press-to-create-a-uni
 que-gift/
SUMMARY:Using the Heat Press to create a Unique Gift *members and public*
DESCRIPTION:This class will cover the basics of using the Heat Press and it
 s accessories to create unique gifts using heat transfer vinyl. The class 
 will go over the parts of the heat press\, how to attach and detach the va
 rious accessories\, how to set temperature and time for various materials 
 such as fabrics and glass. The class will also include a check-off or demo
  on the use of the Cricut machine for cutting and application of heat tran
 sfer vinyl.\n\nDate and time of the class September 21\, 2024\, 1pm to 3pm
 \n\nTotal cost of class: $35\n\nNumber of seats: 8\n\nRefunds given before
  September 15th\n\nAge group: 16 to 85\n\nMinimum and maximum students min
  3 max 8 in the class\n\nTool area being used. Big table in clean room in 
 Clean room\, Press\, Cricut machine\n\nContact information for the instruc
 tor: Slack @sylvia Email: slieteau@gmail.com Slack is preferred in case th
 e students need to ask questions.
CATEGORIES:Class,Craft
LOCATION:The Bodgery\, 740 Oscar Ave\, Madison\, WI\, 53704\, United States
X-APPLE-STRUCTURED-LOCATION;VALUE=URI;X-ADDRESS=740 Oscar Ave\, Madison\, W
 I\, 53704\, United States;X-APPLE-RADIUS=100;X-TITLE=The Bodgery:geo:0,0
END:VEVENT
BEGIN:VTIMEZONE
TZID:America/Chicago
X-LIC-LOCATION:America/Chicago
BEGIN:DAYLIGHT
DTSTART:20240310T030000
TZOFFSETFROM:-0600
TZOFFSETTO:-0500
TZNAME:CDT
END:DAYLIGHT
END:VTIMEZONE
END:VCALENDAR