BEGIN:VCALENDAR
VERSION:2.0
PRODID:-//wp-events-plugin.com//7.2.3.1//EN
TZID:America/Chicago
X-WR-TIMEZONE:America/Chicago
BEGIN:VEVENT
UID:1829@mms.thebodgery.org
DTSTART;TZID=America/Chicago:20241207T090000
DTEND;TZID=America/Chicago:20241207T130000
DTSTAMP:20241031T002953Z
URL:https://mms.thebodgery.org/events/woodworking-tables-and-benches-4/
SUMMARY:Woodworking: Tables and Benches
DESCRIPTION:Table and Benches\n\nWorking primarily with handtools\, this cl
 ass is great for beginners and experienced woodworkers. There will be a fo
 cus on Mortice and tenon joinery and an exploration of the Trestle style c
 onstruction. Students will have an opportunity to design and build their o
 wn table or bench. Materials will provided in class for demonstration and 
 joinery practice. Material to build your own Table or bench is not include
 d in class price\, options will be discussed. Students can expect to atten
 d multiple classes an average of 2 to 5 to complete project.\n\nFrom 9am t
 o 1pm Saturdays in the shop classroom\n\nDates: Nov 16\,23\,30 and Dec 7\,
 14\,21. Please book separately for each class. \n\n\nCost per class is $1
 00\nClass size is 5.\nNo Refunds.  You may reschedule if the Instructor a
 llows it.\nComfortable work appropriate clothing encouraged\n\nContact Mik
 e\n@chiefbadaxethespeakingtree on Slack\nOr badaxechief@gmail.com\n\nNon m
 embers: please arrive 5 minutes before class. Our building is locked 24/7 
 and you will need to let inside by the instructor. Do email Mike\, if you 
 are going to be late for class.
CATEGORIES:Class,Woodworking
LOCATION:The Bodgery\, 740 Oscar Ave\, Madison\, WI\, 53704\, United States
X-APPLE-STRUCTURED-LOCATION;VALUE=URI;X-ADDRESS=740 Oscar Ave\, Madison\, W
 I\, 53704\, United States;X-APPLE-RADIUS=100;X-TITLE=The Bodgery:geo:0,0
END:VEVENT
BEGIN:VTIMEZONE
TZID:America/Chicago
X-LIC-LOCATION:America/Chicago
BEGIN:STANDARD
DTSTART:20241103T010000
TZOFFSETFROM:-0500
TZOFFSETTO:-0600
TZNAME:CST
END:STANDARD
END:VTIMEZONE
END:VCALENDAR